BEGIN:VCALENDAR
PRODID:-//Hannon Hill Events//Cascade CMS//EN
VERSION:2.0
X-WR-CALNAME:March CBI Workshops - Microsoft Excel Advanced - Online
X-WR-TIMEZONE:America/New_York
BEGIN:VTIMEZONE
TZID:America/New_York
BEGIN:DAYLIGHT
TZOFFSETFROM:-0500
TZOFFSETTO:-0400
TZNAME:EDT
DTSTART:19700308T020000
RRULE:FREQ=YEARLY;BYMONTH=3;BYDAY=2SU
END:DAYLIGHT
BEGIN:STANDARD
TZOFFSETFROM:-0400
TZOFFSETTO:-0500
TZNAME:EST
DTSTART:19701101T020000
RRULE:FREQ=YEARLY;BYMONTH=11;BYDAY=1SU
END:STANDARD
END:VTIMEZONE
BEGIN:VEVENT
DTSTART:20240306T080000
DTEND:20240306T120000
DTSTAMP:20260312T113313
UID:a8b64aaf0a00002c242ecc0c93717ca9
CREATED:20240214T124215
DESCRIPTION:This online program is designed for experienced Excel users.
LAST-MODIFIED:20240214T124554
SEQUENCE:0
STATUS:CONFIRMED
SUMMARY:March CBI Workshops - Microsoft Excel Advanced - Online
TRANSP:OPAQUE
END:VEVENT
END:VCALENDAR
