BEGIN:VCALENDAR
PRODID:-//Hannon Hill Events//Cascade CMS//EN
VERSION:2.0
X-WR-CALNAME:Earth Day Celebration 2026
X-WR-TIMEZONE:America/New_York
BEGIN:VTIMEZONE
TZID:America/New_York
BEGIN:DAYLIGHT
TZOFFSETFROM:-0500
TZOFFSETTO:-0400
TZNAME:EDT
DTSTART:19700308T020000
RRULE:FREQ=YEARLY;BYMONTH=3;BYDAY=2SU
END:DAYLIGHT
BEGIN:STANDARD
TZOFFSETFROM:-0400
TZOFFSETTO:-0500
TZNAME:EST
DTSTART:19701101T020000
RRULE:FREQ=YEARLY;BYMONTH=11;BYDAY=1SU
END:STANDARD
END:VTIMEZONE
BEGIN:VEVENT
DTSTART:20260425T110000
DTEND:20260425T170000
DTSTAMP:20260414T110010
UID:727df0dd0a00002c570077290f1c1e85
CREATED:20260409T094549
DESCRIPTION:Celebrate sustainability and community at Northampton Communit
 y College&#8217\;s annual Earth Day event! Enjoy interactive activities\, 
 educational exhibits\, and opportunities to connect with local organizatio
 ns focused on environmental stewardship. This family-friendly event highli
 ghts ways to live greener\, protect natural resources\, and make a positiv
 e impact.
LAST-MODIFIED:20260414T110007
SEQUENCE:0
STATUS:CONFIRMED
SUMMARY:Earth Day Celebration 2026
TRANSP:OPAQUE
END:VEVENT
END:VCALENDAR
