BEGIN:VCALENDAR
PRODID:-//Hannon Hill Events//Cascade CMS//EN
VERSION:2.0
X-WR-CALNAME:Free Community Event - Cops&apos\;n&apos\;Kids Celebration of
  Reading...and the Arts and Sciences
X-WR-TIMEZONE:America/New_York
BEGIN:VTIMEZONE
TZID:America/New_York
BEGIN:DAYLIGHT
TZOFFSETFROM:-0500
TZOFFSETTO:-0400
TZNAME:EDT
DTSTART:19700308T020000
RRULE:FREQ=YEARLY;BYMONTH=3;BYDAY=2SU
END:DAYLIGHT
BEGIN:STANDARD
TZOFFSETFROM:-0400
TZOFFSETTO:-0500
TZNAME:EST
DTSTART:19701101T020000
RRULE:FREQ=YEARLY;BYMONTH=11;BYDAY=1SU
END:STANDARD
END:VTIMEZONE
BEGIN:VEVENT
DTSTART:20260425T110000
DTEND:20260425T150000
DTSTAMP:20260407T154725
UID:697bbae20a00002c57007729aca10137
CREATED:20260407T154649
DESCRIPTION:The 18th Annual Cops&apos\;n&apos\;Kids Celebration of Reading
 ...and the Arts and Sciences will take place at the Fowler Family Southsid
 e Center on Saturday\, April 25\, 2026 from 11 am-3 pm. Bring the kids and
  join us for free entertainment\, books\, food\, crafts\, science experime
 nts and fun activities. The entire is event is free and open to the public
 ! Don&apos\;t miss it!
LAST-MODIFIED:20260407T154649
SEQUENCE:0
STATUS:CONFIRMED
SUMMARY:Free Community Event - Cops&apos\;n&apos\;Kids Celebration of Read
 ing...and the Arts and Sciences
TRANSP:OPAQUE
END:VEVENT
END:VCALENDAR
