BEGIN:VCALENDAR
PRODID:-//Hannon Hill Events//Cascade CMS//EN
VERSION:2.0
X-WR-CALNAME:NCC Baking and Pastry Dessert Buffet
X-WR-TIMEZONE:America/New_York
BEGIN:VTIMEZONE
TZID:America/New_York
BEGIN:DAYLIGHT
TZOFFSETFROM:-0500
TZOFFSETTO:-0400
TZNAME:EDT
DTSTART:19700308T020000
RRULE:FREQ=YEARLY;BYMONTH=3;BYDAY=2SU
END:DAYLIGHT
BEGIN:STANDARD
TZOFFSETFROM:-0400
TZOFFSETTO:-0500
TZNAME:EST
DTSTART:19701101T020000
RRULE:FREQ=YEARLY;BYMONTH=11;BYDAY=1SU
END:STANDARD
END:VTIMEZONE
BEGIN:VEVENT
DTSTART:20260428T180000
DTEND:20260428T200000
DTSTAMP:20260407T155830
UID:697f2db60a00002c57007729e8002399
CREATED:20260407T155035
DESCRIPTION:In the mood for something sweet? NCC&apos\;s Baking and Pastry
  Program is hosting a Dessert Buffet on Tuesday\, April 28th from 6pm-8pm!
 ! Enjoy assorted cookies\, cakes\, breads made by the students. Reservatio
 ns can be made by calling 610-861-4549 or on Open Table.
LAST-MODIFIED:20260407T155035
SEQUENCE:0
STATUS:CONFIRMED
SUMMARY:NCC Baking and Pastry Dessert Buffet
TRANSP:OPAQUE
END:VEVENT
END:VCALENDAR
