BEGIN:VCALENDAR
PRODID:-//Hannon Hill Events//Cascade CMS//EN
VERSION:2.0
X-WR-CALNAME:Northampton Community College Choir Spring Concert
X-WR-TIMEZONE:America/New_York
BEGIN:VTIMEZONE
TZID:America/New_York
BEGIN:DAYLIGHT
TZOFFSETFROM:-0500
TZOFFSETTO:-0400
TZNAME:EDT
DTSTART:19700308T020000
RRULE:FREQ=YEARLY;BYMONTH=3;BYDAY=2SU
END:DAYLIGHT
BEGIN:STANDARD
TZOFFSETFROM:-0400
TZOFFSETTO:-0500
TZNAME:EST
DTSTART:19701101T020000
RRULE:FREQ=YEARLY;BYMONTH=11;BYDAY=1SU
END:STANDARD
END:VTIMEZONE
BEGIN:VEVENT
DTSTART:20260424T190000
DTEND:20260424T210000
DTSTAMP:20260414T112200
UID:8c956b6c0a00002c57007729bd6111ff
CREATED:20260414T112135
DESCRIPTION:Join the Northampton Community College Choir for an inspiring 
 evening of music that celebrates the beauty of diversity\, the power of lo
 ve\, and the strength of unity.
LAST-MODIFIED:20260414T112135
SEQUENCE:0
STATUS:CONFIRMED
SUMMARY:Northampton Community College Choir Spring Concert
TRANSP:OPAQUE
END:VEVENT
END:VCALENDAR
