BEGIN:VCALENDAR
PRODID:-//Hannon Hill Events//Cascade CMS//EN
VERSION:2.0
X-WR-CALNAME:Tailgate with the President
X-WR-TIMEZONE:America/New_York
BEGIN:VTIMEZONE
TZID:America/New_York
BEGIN:DAYLIGHT
TZOFFSETFROM:-0500
TZOFFSETTO:-0400
TZNAME:EDT
DTSTART:19700308T020000
RRULE:FREQ=YEARLY;BYMONTH=3;BYDAY=2SU
END:DAYLIGHT
BEGIN:STANDARD
TZOFFSETFROM:-0400
TZOFFSETTO:-0500
TZNAME:EST
DTSTART:19701101T020000
RRULE:FREQ=YEARLY;BYMONTH=11;BYDAY=1SU
END:STANDARD
END:VTIMEZONE
BEGIN:VEVENT
DTSTART:20260421T153000
DTEND:20260421T173000
DTSTAMP:20260410T161150
UID:7905a0df0a00002c5700772925623c93
CREATED:20260410T161145
DESCRIPTION:Join Dr. Dave Ruth as he hosts a TAILGATE for the Women&apos\;
 s Softball and Men&#8217\;s Baseball\nTeams at their home game on APRIL 21
 \, 3:30 PM &#8211\; 5:30 PM\, at the\nBaseball Field\, located behind Coll
 ege Center. Free food and refreshments. Come out\nand support our student 
 athletes!
LAST-MODIFIED:20260410T161145
SEQUENCE:0
STATUS:CONFIRMED
SUMMARY:Tailgate with the President
TRANSP:OPAQUE
END:VEVENT
END:VCALENDAR
